BEGIN:VCALENDAR
VERSION:2.0
PRODID:-//BPIS - ECPv6.15.12.2//NONSGML v1.0//EN
CALSCALE:GREGORIAN
METHOD:PUBLISH
X-ORIGINAL-URL:https://bpismumbai.com
X-WR-CALDESC:Events for BPIS
REFRESH-INTERVAL;VALUE=DURATION:PT1H
X-Robots-Tag:noindex
X-PUBLISHED-TTL:PT1H
BEGIN:VTIMEZONE
TZID:UTC
BEGIN:STANDARD
TZOFFSETFROM:+0000
TZOFFSETTO:+0000
TZNAME:UTC
DTSTART:20220101T000000
END:STANDARD
END:VTIMEZONE
BEGIN:VEVENT
DTSTART;VALUE=DATE:20231020
DTEND;VALUE=DATE:20231021
DTSTAMP:20260420T200426
CREATED:20230914T022751Z
LAST-MODIFIED:20230918T021221Z
UID:1302-1697760000-1697846399@bpismumbai.com
SUMMARY:Math Fiesta
DESCRIPTION:Math Fiesta for Primary & Secondary Section (Grade 1 to Grade 10) \n 
URL:https://bpismumbai.com/event/maths-fiesta/
LOCATION:BPIS School\, India
CATEGORIES:Primary
END:VEVENT
END:VCALENDAR