BEGIN:VCALENDAR
VERSION:2.0
PRODID:-//BPIS - ECPv6.15.12.2//NONSGML v1.0//EN
CALSCALE:GREGORIAN
METHOD:PUBLISH
X-ORIGINAL-URL:https://bpismumbai.com
X-WR-CALDESC:Events for BPIS
REFRESH-INTERVAL;VALUE=DURATION:PT1H
X-Robots-Tag:noindex
X-PUBLISHED-TTL:PT1H
BEGIN:VTIMEZONE
TZID:UTC
BEGIN:STANDARD
TZOFFSETFROM:+0000
TZOFFSETTO:+0000
TZNAME:UTC
DTSTART:20220101T000000
END:STANDARD
END:VTIMEZONE
BEGIN:VEVENT
DTSTART;VALUE=DATE:20231027
DTEND;VALUE=DATE:20231028
DTSTAMP:20260420T200425
CREATED:20230914T023042Z
LAST-MODIFIED:20230918T022103Z
UID:1306-1698364800-1698451199@bpismumbai.com
SUMMARY:Sci-Land - Science Model Making
DESCRIPTION:Science Model Making for Primary Secondary Section ( Grade 1 to Grade 10)
URL:https://bpismumbai.com/event/science-model-making/
LOCATION:BPIS School\, India
CATEGORIES:Primary
END:VEVENT
END:VCALENDAR