BEGIN:VCALENDAR
VERSION:2.0
PRODID:-//BPIS - ECPv6.15.12.2//NONSGML v1.0//EN
CALSCALE:GREGORIAN
METHOD:PUBLISH
X-WR-CALNAME:BPIS
X-ORIGINAL-URL:https://bpismumbai.com
X-WR-CALDESC:Events for BPIS
REFRESH-INTERVAL;VALUE=DURATION:PT1H
X-Robots-Tag:noindex
X-PUBLISHED-TTL:PT1H
BEGIN:VTIMEZONE
TZID:UTC
BEGIN:STANDARD
TZOFFSETFROM:+0000
TZOFFSETTO:+0000
TZNAME:UTC
DTSTART:20230101T000000
END:STANDARD
END:VTIMEZONE
BEGIN:VEVENT
DTSTART;VALUE=DATE:20240108
DTEND;VALUE=DATE:20240109
DTSTAMP:20260420T154526
CREATED:20230915T213400Z
LAST-MODIFIED:20230915T213400Z
UID:1384-1704672000-1704758399@bpismumbai.com
SUMMARY:2nd Preliminary Examination (Grade 10)
DESCRIPTION:2nd Preliminary Examination begins for Grade 10
URL:https://bpismumbai.com/event/2nd-preliminary-examination-grade-10/
LOCATION:BPIS School\, India
CATEGORIES:Secondary
END:VEVENT
END:VCALENDAR