BEGIN:VCALENDAR
VERSION:2.0
PRODID:-//BPIS - ECPv6.15.12.2//NONSGML v1.0//EN
CALSCALE:GREGORIAN
METHOD:PUBLISH
X-ORIGINAL-URL:https://bpismumbai.com
X-WR-CALDESC:Events for BPIS
REFRESH-INTERVAL;VALUE=DURATION:PT1H
X-Robots-Tag:noindex
X-PUBLISHED-TTL:PT1H
BEGIN:VTIMEZONE
TZID:Asia/Kolkata
BEGIN:STANDARD
TZOFFSETFROM:+0530
TZOFFSETTO:+0530
TZNAME:IST
DTSTART:20240101T000000
END:STANDARD
END:VTIMEZONE
BEGIN:VEVENT
DTSTART;VALUE=DATE:20251219
DTEND;VALUE=DATE:20251220
DTSTAMP:20260426T084824
CREATED:20250618T060706Z
LAST-MODIFIED:20250618T060706Z
UID:2362-1766102400-1766188799@bpismumbai.com
SUMMARY:3rd PTM - Gr. 10
DESCRIPTION:
URL:https://bpismumbai.com/event/3rd-ptm-gr-10/
CATEGORIES:Secondary
END:VEVENT
BEGIN:VEVENT
DTSTART;VALUE=DATE:20251219
DTEND;VALUE=DATE:20251220
DTSTAMP:20260426T084824
CREATED:20250618T060846Z
LAST-MODIFIED:20250618T060846Z
UID:2364-1766102400-1766188799@bpismumbai.com
SUMMARY:Yummilicious
DESCRIPTION:Grade 6 to 9
URL:https://bpismumbai.com/event/yummilicious/
CATEGORIES:Secondary
END:VEVENT
END:VCALENDAR