BEGIN:VCALENDAR
VERSION:2.0
PRODID:-//BPIS - ECPv6.15.12.2//NONSGML v1.0//EN
CALSCALE:GREGORIAN
METHOD:PUBLISH
X-WR-CALNAME:BPIS
X-ORIGINAL-URL:https://bpismumbai.com
X-WR-CALDESC:Events for BPIS
REFRESH-INTERVAL;VALUE=DURATION:PT1H
X-Robots-Tag:noindex
X-PUBLISHED-TTL:PT1H
BEGIN:VTIMEZONE
TZID:Asia/Kolkata
BEGIN:STANDARD
TZOFFSETFROM:+0530
TZOFFSETTO:+0530
TZNAME:IST
DTSTART:20240101T000000
END:STANDARD
END:VTIMEZONE
BEGIN:VEVENT
DTSTART;VALUE=DATE:20251018
DTEND;VALUE=DATE:20251102
DTSTAMP:20260426T043223
CREATED:20250617T035648Z
LAST-MODIFIED:20250617T035648Z
UID:2322-1760745600-1762041599@bpismumbai.com
SUMMARY:Diwali Break
DESCRIPTION:Nursery – Grade 10
URL:https://bpismumbai.com/event/diwali-break/
CATEGORIES:Pre-Primay,Primary,School,Secondary
END:VEVENT
BEGIN:VEVENT
DTSTART;VALUE=DATE:20251103
DTEND;VALUE=DATE:20251104
DTSTAMP:20260426T043223
CREATED:20250617T035809Z
LAST-MODIFIED:20250617T035809Z
UID:2324-1762128000-1762214399@bpismumbai.com
SUMMARY:School Re-opens
DESCRIPTION:Nursery – Grade 8
URL:https://bpismumbai.com/event/school-re-opens-4/
CATEGORIES:Pre-Primay,Primary,School,Secondary
END:VEVENT
BEGIN:VEVENT
DTSTART;VALUE=DATE:20251105
DTEND;VALUE=DATE:20251106
DTSTAMP:20260426T043223
CREATED:20250428T033846Z
LAST-MODIFIED:20250428T033846Z
UID:2199-1762300800-1762387199@bpismumbai.com
SUMMARY:Guru Nanak Jayanti
DESCRIPTION:
URL:https://bpismumbai.com/event/guru-nanak-jayanti-2/
CATEGORIES:Pre-Primay,Primary,School,Secondary
END:VEVENT
BEGIN:VEVENT
DTSTART;VALUE=DATE:20251113
DTEND;VALUE=DATE:20251114
DTSTAMP:20260426T043223
CREATED:20250617T040120Z
LAST-MODIFIED:20250617T040317Z
UID:2328-1762992000-1763078399@bpismumbai.com
SUMMARY:Puppet Panorama Competition
DESCRIPTION:Grade 3 & 4
URL:https://bpismumbai.com/event/puppet-panorama-competition/
CATEGORIES:Primary,School
END:VEVENT
BEGIN:VEVENT
DTSTART;VALUE=DATE:20251113
DTEND;VALUE=DATE:20251114
DTSTAMP:20260426T043223
CREATED:20250617T040221Z
LAST-MODIFIED:20250617T040221Z
UID:2330-1762992000-1763078399@bpismumbai.com
SUMMARY:Debate Competition
DESCRIPTION:Grade 5
URL:https://bpismumbai.com/event/debate-competition/
CATEGORIES:Primary
END:VEVENT
BEGIN:VEVENT
DTSTART;VALUE=DATE:20251126
DTEND;VALUE=DATE:20251206
DTSTAMP:20260426T043223
CREATED:20250618T055534Z
LAST-MODIFIED:20250618T055534Z
UID:2351-1764115200-1764979199@bpismumbai.com
SUMMARY:Periodic Assessment -2 (Gr. 3-5)
DESCRIPTION:
URL:https://bpismumbai.com/event/periodic-assessment-2-gr-3-5/
CATEGORIES:Primary,School
END:VEVENT
END:VCALENDAR