BEGIN:VCALENDAR
VERSION:2.0
PRODID:-//BPIS - ECPv6.15.12.2//NONSGML v1.0//EN
CALSCALE:GREGORIAN
METHOD:PUBLISH
X-WR-CALNAME:BPIS
X-ORIGINAL-URL:https://bpismumbai.com
X-WR-CALDESC:Events for BPIS
REFRESH-INTERVAL;VALUE=DURATION:PT1H
X-Robots-Tag:noindex
X-PUBLISHED-TTL:PT1H
BEGIN:VTIMEZONE
TZID:Asia/Kolkata
BEGIN:STANDARD
TZOFFSETFROM:+0530
TZOFFSETTO:+0530
TZNAME:IST
DTSTART:20240101T000000
END:STANDARD
END:VTIMEZONE
BEGIN:VEVENT
DTSTART;VALUE=DATE:20251126
DTEND;VALUE=DATE:20251206
DTSTAMP:20260421T030933
CREATED:20250618T055534Z
LAST-MODIFIED:20250618T055534Z
UID:2351-1764115200-1764979199@bpismumbai.com
SUMMARY:Periodic Assessment -2 (Gr. 3-5)
DESCRIPTION:
URL:https://bpismumbai.com/event/periodic-assessment-2-gr-3-5/
CATEGORIES:Primary,School
END:VEVENT
END:VCALENDAR