BEGIN:VCALENDAR
VERSION:2.0
PRODID:-//BPIS - ECPv6.15.12.2//NONSGML v1.0//EN
CALSCALE:GREGORIAN
METHOD:PUBLISH
X-ORIGINAL-URL:https://bpismumbai.com
X-WR-CALDESC:Events for BPIS
REFRESH-INTERVAL;VALUE=DURATION:PT1H
X-Robots-Tag:noindex
X-PUBLISHED-TTL:PT1H
BEGIN:VTIMEZONE
TZID:Asia/Kolkata
BEGIN:STANDARD
TZOFFSETFROM:+0530
TZOFFSETTO:+0530
TZNAME:IST
DTSTART:20240101T000000
END:STANDARD
END:VTIMEZONE
BEGIN:VEVENT
DTSTART;VALUE=DATE:20251220
DTEND;VALUE=DATE:20251221
DTSTAMP:20260426T045055
CREATED:20250618T061024Z
LAST-MODIFIED:20250618T061024Z
UID:2366-1766188800-1766275199@bpismumbai.com
SUMMARY:3rd PTM (Nursery- Gr. 9)
DESCRIPTION:
URL:https://bpismumbai.com/event/3rd-ptm-nursery-gr-9/
CATEGORIES:Secondary
END:VEVENT
END:VCALENDAR