BEGIN:VCALENDAR
VERSION:2.0
PRODID:-//BPIS - ECPv6.15.12.2//NONSGML v1.0//EN
CALSCALE:GREGORIAN
METHOD:PUBLISH
X-WR-CALNAME:BPIS
X-ORIGINAL-URL:https://bpismumbai.com
X-WR-CALDESC:Events for BPIS
REFRESH-INTERVAL;VALUE=DURATION:PT1H
X-Robots-Tag:noindex
X-PUBLISHED-TTL:PT1H
BEGIN:VTIMEZONE
TZID:Asia/Kolkata
BEGIN:STANDARD
TZOFFSETFROM:+0530
TZOFFSETTO:+0530
TZNAME:IST
DTSTART:20250101T000000
END:STANDARD
END:VTIMEZONE
BEGIN:VEVENT
DTSTART;VALUE=DATE:20260226
DTEND;VALUE=DATE:20260314
DTSTAMP:20260426T000726
CREATED:20250619T034449Z
LAST-MODIFIED:20250619T034449Z
UID:2396-1772064000-1773446399@bpismumbai.com
SUMMARY:2nd Semester Exam (Gr. 6 & 7)
DESCRIPTION:
URL:https://bpismumbai.com/event/2nd-semester-exam-gr-6-7/
CATEGORIES:Secondary
END:VEVENT
BEGIN:VEVENT
DTSTART;VALUE=DATE:20260305
DTEND;VALUE=DATE:20260306
DTSTAMP:20260426T000726
CREATED:20250619T035555Z
LAST-MODIFIED:20250619T035555Z
UID:2404-1772668800-1772755199@bpismumbai.com
SUMMARY:School Reopens Gr. 9 & 10
DESCRIPTION:
URL:https://bpismumbai.com/event/school-reopens-gr-9-10/
CATEGORIES:Secondary
END:VEVENT
END:VCALENDAR