BEGIN:VCALENDAR
VERSION:2.0
PRODID:-//BPIS - ECPv6.15.12.2//NONSGML v1.0//EN
CALSCALE:GREGORIAN
METHOD:PUBLISH
X-WR-CALNAME:BPIS
X-ORIGINAL-URL:https://bpismumbai.com
X-WR-CALDESC:Events for BPIS
REFRESH-INTERVAL;VALUE=DURATION:PT1H
X-Robots-Tag:noindex
X-PUBLISHED-TTL:PT1H
BEGIN:VTIMEZONE
TZID:UTC
BEGIN:STANDARD
TZOFFSETFROM:+0000
TZOFFSETTO:+0000
TZNAME:UTC
DTSTART:20220101T000000
END:STANDARD
END:VTIMEZONE
BEGIN:VEVENT
DTSTART;VALUE=DATE:20231103
DTEND;VALUE=DATE:20231104
DTSTAMP:20260420T170332
CREATED:20230912T033323Z
LAST-MODIFIED:20230918T022149Z
UID:1207-1698969600-1699055999@bpismumbai.com
SUMMARY:Diwali Celebrations
DESCRIPTION:Diwali Celebrations for Pre – Primary\, Primary & Secondary Section
URL:https://bpismumbai.com/event/diwali-celebrations/
LOCATION:BPIS School\, India
CATEGORIES:Pre-Primay
END:VEVENT
BEGIN:VEVENT
DTSTART;VALUE=DATE:20231104
DTEND;VALUE=DATE:20231105
DTSTAMP:20260420T170332
CREATED:20230914T023530Z
LAST-MODIFIED:20230918T022250Z
UID:1310-1699056000-1699142399@bpismumbai.com
SUMMARY:Melange Exhibition
DESCRIPTION:Melange – An Amalgamation of Science and Mathematics Exhibition for Primary & Secondary Section \n 
URL:https://bpismumbai.com/event/melange-exhibition/
LOCATION:BPIS School\, India
CATEGORIES:Primary
END:VEVENT
BEGIN:VEVENT
DTSTART;VALUE=DATE:20231121
DTEND;VALUE=DATE:20231122
DTSTAMP:20260420T170332
CREATED:20230915T210101Z
LAST-MODIFIED:20230915T210101Z
UID:1367-1700524800-1700611199@bpismumbai.com
SUMMARY:School Reopening
DESCRIPTION:School Reopens for Secondary Section
URL:https://bpismumbai.com/event/school-reopening/
LOCATION:BPIS School\, India
CATEGORIES:Secondary
END:VEVENT
BEGIN:VEVENT
DTSTART;VALUE=DATE:20231124
DTEND;VALUE=DATE:20231125
DTSTAMP:20260420T170332
CREATED:20230915T210310Z
LAST-MODIFIED:20230915T210310Z
UID:1369-1700784000-1700870399@bpismumbai.com
SUMMARY:Les Pioneers
DESCRIPTION:Les Pioneers (Declamation – Grade 6 to 10)
URL:https://bpismumbai.com/event/les-pioneers/
LOCATION:BPIS School\, India
CATEGORIES:Secondary
END:VEVENT
BEGIN:VEVENT
DTSTART;VALUE=DATE:20231128
DTEND;VALUE=DATE:20231129
DTSTAMP:20260420T170332
CREATED:20230915T210556Z
LAST-MODIFIED:20250616T084443Z
UID:1371-1701129600-1701215999@bpismumbai.com
SUMMARY:2nd Periodic Test
DESCRIPTION:2nd Periodic Test begins for Grade 6 to 9
URL:https://bpismumbai.com/event/2nd-periodic-test-2/
LOCATION:BPIS School\, India
CATEGORIES:Secondary
END:VEVENT
BEGIN:VEVENT
DTSTART;VALUE=DATE:20231128
DTEND;VALUE=DATE:20231129
DTSTAMP:20260420T170332
CREATED:20230914T023730Z
LAST-MODIFIED:20230918T022633Z
UID:1312-1701129600-1701215999@bpismumbai.com
SUMMARY:2nd Periodic Test
DESCRIPTION:2nd Periodic Test for Primary  & Secondary Section (Grade 1 to Grade 9)
URL:https://bpismumbai.com/event/2nd-periodic-test/
LOCATION:BPIS School\, India
CATEGORIES:Primary
END:VEVENT
BEGIN:VEVENT
DTSTART;VALUE=DATE:20231130
DTEND;VALUE=DATE:20231201
DTSTAMP:20260420T170332
CREATED:20230912T033802Z
LAST-MODIFIED:20230914T021909Z
UID:1209-1701302400-1701388799@bpismumbai.com
SUMMARY:Shadow Play
DESCRIPTION:Shadow Play for Pre – Primary Section
URL:https://bpismumbai.com/event/shadow-play/
LOCATION:BPIS School\, India
CATEGORIES:Pre-Primay
END:VEVENT
END:VCALENDAR